BEGIN:VCALENDAR
VERSION:2.0
PRODID:-//Gimnasia Chile - ECPv4.9.1.1//NONSGML v1.0//EN
CALSCALE:GREGORIAN
METHOD:PUBLISH
X-WR-CALNAME:Gimnasia Chile
X-ORIGINAL-URL:https://gimnasiachile.cl
X-WR-CALDESC:Eventos para Gimnasia Chile
BEGIN:VEVENT
DTSTART;TZID=UTC+0:20201030T150000
DTEND;TZID=UTC+0:20201030T173000
DTSTAMP:20260419T172924
CREATED:20201126T001522Z
LAST-MODIFIED:20201126T001557Z
UID:2535-1604070000-1604079000@gimnasiachile.cl
SUMMARY:ENTRENAMIENTO GR CONJUNTO
DESCRIPTION:
URL:https://gimnasiachile.cl/evento/entrenamiento-gr-conjunto-17/
LOCATION:ONLINE\, Chile
CATEGORIES:GRD
ATTACH;FMTTYPE=image/png:https://gimnasiachile.cl/wp-content/uploads/2019/05/rg.png
END:VEVENT
END:VCALENDAR